BEGIN:VCALENDAR
VERSION:2.0
PRODID:-//ChamberMaster//Event Calendar 2.0//EN
METHOD:PUBLISH
X-PUBLISHED-TTL:P3D
REFRESH-INTERVAL:P3D
CALSCALE:GREGORIAN
BEGIN:VEVENT
DTSTART:20080514T230000Z
DTEND:20080515T000000Z
X-MICROSOFT-CDO-ALLDAYEVENT:FALSE
SUMMARY:Event at Tomball Regional Medical Center
DESCRIPTION:Popular Diets: Pro's\, Con's and Real Facts.  FREE Community Seminar
X-ALT-DESC;FMTTYPE=text/html:Popular Diets: Pro's\, Con's and Real Facts.  FREE Community Seminar
LOCATION:First Floor Tower Conference/Private Dining Room
UID:e.155.2493
SEQUENCE:3
DTSTAMP:20260421T130920Z
URL:https://business.tomballchamber.org/events/details/event-at-tomball-regional-medical-center-05-14-2008-2493
END:VEVENT

END:VCALENDAR
