BEGIN:VCALENDAR
VERSION:2.0
PRODID:-//ChamberMaster//Event Calendar 2.0//EN
METHOD:PUBLISH
X-PUBLISHED-TTL:P3D
REFRESH-INTERVAL:P3D
CALSCALE:GREGORIAN
BEGIN:VEVENT
DTSTART:20080508T230000Z
DTEND:20080509T000000Z
X-MICROSOFT-CDO-ALLDAYEVENT:FALSE
SUMMARY:Event at Tomball Regional Medical Center
DESCRIPTION:Menopause: Answers for "Hot" Women.  Free Community Seminar
X-ALT-DESC;FMTTYPE=text/html:Menopause: Answers for "Hot" Women.  Free Community Seminar
LOCATION:First Floor Tower Conference/Private Dining Room
UID:e.155.2492
SEQUENCE:3
DTSTAMP:20260421T150257Z
URL:https://business.tomballchamber.org/events/details/event-at-tomball-regional-medical-center-05-08-2008-2492
END:VEVENT

END:VCALENDAR
