BEGIN:VCALENDAR
VERSION:2.0
PRODID:-//ChamberMaster//Event Calendar 2.0//EN
METHOD:PUBLISH
X-PUBLISHED-TTL:P3D
REFRESH-INTERVAL:P3D
CALSCALE:GREGORIAN
BEGIN:VEVENT
DTSTART:20080507T230000Z
DTEND:20080508T000000Z
X-MICROSOFT-CDO-ALLDAYEVENT:FALSE
SUMMARY:Event at Tomball Regional Medical Center
DESCRIPTION:FREE Community Seminar.  Heart Healthy: How to choose heart healthy foods and what makes food "heart healthy"
X-ALT-DESC;FMTTYPE=text/html:FREE Community Seminar.  Heart Healthy: How to choose heart healthy foods and what makes food "heart healthy"
LOCATION:First Floor Tower Conference Room/Private Dining Room
UID:e.155.2491
SEQUENCE:3
DTSTAMP:20260421T130921Z
URL:https://business.tomballchamber.org/events/details/event-at-tomball-regional-medical-center-05-07-2008-2491
END:VEVENT

END:VCALENDAR
