BEGIN:VCALENDAR
VERSION:2.0
PRODID:-//ChamberMaster//Event Calendar 2.0//EN
METHOD:PUBLISH
X-PUBLISHED-TTL:P3D
REFRESH-INTERVAL:P3D
CALSCALE:GREGORIAN
BEGIN:VEVENT
DTSTART:20071110T170000Z
DTEND:20071110T190000Z
X-MICROSOFT-CDO-ALLDAYEVENT:FALSE
SUMMARY:Event at Spring Nursery & Landscape\, Inc.
DESCRIPTION:"Build Your Own Pavestone Paver Patio!"  Join us for a free lunch in our new Outdoor Kitchen (in progress) with an all new Pavestone Patio area.  We will have a Pavestone rep to demonstrate how to build your very own patio and introduce new proucts and colors that will enhance any outdoor setting.  RSVP for your chance to win a FREE PALLET OF PAVESTONE PAVERS!  All attendees receive specials the day of each event!
X-ALT-DESC;FMTTYPE=text/html:"Build Your Own Pavestone Paver Patio!"  Join us for a free lunch in our new Outdoor Kitchen (in progress) with an all new Pavestone Patio area.  We will have a Pavestone rep to demonstrate how to build your very own patio and introduce new proucts and colors that will enhance any outdoor setting.  RSVP for your chance to win a FREE PALLET OF PAVESTONE PAVERS!  All attendees receive specials the day of each event!\n
LOCATION:25252 FM 2978 Tomball (1.9 miles north of FM 2920 n FM 2978 or 4.8 miles south of Woodlands Parkway on FM 2978).
UID:e.155.1676
SEQUENCE:3
DTSTAMP:20260421T233441Z
URL:https://business.tomballchamber.org/events/details/event-at-spring-nursery-landscape-inc-11-10-2007-1676
END:VEVENT

END:VCALENDAR
