BEGIN:VCALENDAR
VERSION:2.0
PRODID:-//ChamberMaster//Event Calendar 2.0//EN
METHOD:PUBLISH
X-PUBLISHED-TTL:P3D
REFRESH-INTERVAL:P3D
CALSCALE:GREGORIAN
BEGIN:VEVENT
DTSTART:20070410T220000Z
DTEND:20070411T000000Z
X-MICROSOFT-CDO-ALLDAYEVENT:FALSE
SUMMARY:Event at Spring Nursery & Landscape\, Inc.
DESCRIPTION:Chamber of Commerce Business After Hours!  All Members and Clients are invited to our garden party.  Join us for food\, adult beverages and music.  Visit with on old friend or meet a new one.  Beautiful give aways at the Nursery!
X-ALT-DESC;FMTTYPE=text/html:Chamber of Commerce Business After Hours!  All Members and Clients are invited to our garden party.  Join us for food\, adult beverages and music.  Visit with on old friend or meet a new one.  Beautiful give aways at the Nursery!
LOCATION:25252 FM 2978 (1.9 miles north of FM 2920 on FM 2978 - Just north of BJ Services and cross the railroad tracks)
UID:e.155.1677
SEQUENCE:3
DTSTAMP:20260422T104551Z
URL:https://business.tomballchamber.org/events/details/event-at-spring-nursery-landscape-inc-04-10-2007-1677
END:VEVENT

END:VCALENDAR
