BEGIN:VCALENDAR
VERSION:2.0
PRODID:-//ChamberMaster//Event Calendar 2.0//EN
METHOD:PUBLISH
X-PUBLISHED-TTL:P3D
REFRESH-INTERVAL:P3D
CALSCALE:GREGORIAN
BEGIN:VEVENT
DTSTART:20070324T150000Z
DTEND:20070324T160000Z
X-MICROSOFT-CDO-ALLDAYEVENT:FALSE
SUMMARY:Event at Spring Nursery & Landscape\, Inc.
DESCRIPTION:"Build Your Own Urn/Pond Water Fountain".  Learn all the ins and outs of installing your very own wter feture.  We offer complete kits for the do-it-yourselfer.  Enjoy the peaceful sounds of your own water feature.  RSVP to win a great prize!  All participants receive specials and discounts the day of each event!
X-ALT-DESC;FMTTYPE=text/html:"Build Your Own Urn/Pond Water Fountain".  Learn all the ins and outs of installing your very own wter feture.  We offer complete kits for the do-it-yourselfer.  Enjoy the peaceful sounds of your own water feature.  RSVP to win a great prize!  All participants receive specials and discounts the day of each event!
LOCATION:25252 FM 2978\, Tomball\, (1.9 miles north of FM 2920 on FM 2978 or 4.8 miles south of Woodlands Parkway on FM 2978)
UID:e.155.1675
SEQUENCE:3
DTSTAMP:20260422T121837Z
URL:https://business.tomballchamber.org/events/details/event-at-spring-nursery-landscape-inc-03-24-2007-1675
END:VEVENT

END:VCALENDAR
