BEGIN:VCALENDAR
VERSION:2.0
PRODID:-//ChamberMaster//Event Calendar 2.0//EN
METHOD:PUBLISH
X-PUBLISHED-TTL:P3D
REFRESH-INTERVAL:P3D
CALSCALE:GREGORIAN
BEGIN:VEVENT
DTSTART:20080323T140000Z
DTEND:20080324T170000Z
X-MICROSOFT-CDO-ALLDAYEVENT:FALSE
SUMMARY:Event at Salem Lutheran Church
DESCRIPTION:Easter Fest - Largest egg hunts in Tomball! Free breakfast buffets\, prize giveaways\, carnival games\, family photos\, Power Team!
X-ALT-DESC;FMTTYPE=text/html:Easter Fest - Largest egg hunts in Tomball! Free breakfast buffets\, prize giveaways\, carnival games\, family photos\, Power Team!
LOCATION:Salem Lutheran Church
UID:e.155.2449
SEQUENCE:3
DTSTAMP:20260421T182925Z
URL:https://business.tomballchamber.org/events/details/event-at-salem-lutheran-church-03-23-2008-2449
END:VEVENT

END:VCALENDAR
