BEGIN:VCALENDAR
VERSION:2.0
PRODID:-//ChamberMaster//Event Calendar 2.0//EN
METHOD:PUBLISH
X-PUBLISHED-TTL:P3D
REFRESH-INTERVAL:P3D
CALSCALE:GREGORIAN
BEGIN:VEVENT
DTSTART:20080207T230000Z
DTEND:20080208T010000Z
X-MICROSOFT-CDO-ALLDAYEVENT:FALSE
SUMMARY:Event at Grayson Financial Services
DESCRIPTION:Open House and Business After-Hours social with the Magnolia Parkway Chamber of Commerce
X-ALT-DESC;FMTTYPE=text/html:Open House and Business After-Hours social with the Magnolia Parkway Chamber of Commerce
LOCATION:Grayson Financial Services offices
UID:e.155.2388
SEQUENCE:3
DTSTAMP:20260421T182654Z
URL:https://business.tomballchamber.org/events/details/event-at-grayson-financial-services-02-07-2008-2388
END:VEVENT

END:VCALENDAR
