BEGIN:VCALENDAR
VERSION:2.0
PRODID:-//ChamberMaster//Event Calendar 2.0//EN
METHOD:PUBLISH
X-PUBLISHED-TTL:P3D
REFRESH-INTERVAL:P3D
CALSCALE:GREGORIAN
BEGIN:VEVENT
DTSTART;VALUE=DATE:20080131
DTEND;VALUE=DATE:20080201
TRANSP:TRANSPARENT
X-MICROSOFT-CDO-ALLDAYEVENT:TRUE
SUMMARY:Event at Edenbrook@Champions
DESCRIPTION:Please join us for our exciting Senior Fair at EdenBrook of Champions.  OUr extensive list of vendors will provide you with more information about Senior Living Options.  Our main speaker\, Dr. David Gottlieb of Woodforest National Bank\, will discuss how you can become a "Super Adult\," by himself remaining constructive and productive instead of "retired."  \nSome other exciting topices include:  \nWhat you need to know about Personal Care\nWhat types of care there are available in the Senior Living industry\nWhere in the Community you can get varios care options\nHow to make senior living live-able
X-ALT-DESC;FMTTYPE=text/html:Please join us for our exciting Senior Fair at EdenBrook of Champions.  OUr extensive list of vendors will provide you with more information about Senior Living Options.  Our main speaker\, Dr. David Gottlieb of Woodforest National Bank\, will discuss how you can become a "Super Adult\," by himself remaining constructive and productive instead of "retired."  \nSome other exciting topices include:  \nWhat you need to know about Personal Care\nWhat types of care there are available in the Senior Living industry\nWhere in the Community you can get varios care options\nHow to make senior living live-able
LOCATION:EdenBrook of Champions 14050 Cutten Road Houston\, Texas 77069
UID:e.155.2395
SEQUENCE:3
DTSTAMP:20260421T214411Z
URL:https://business.tomballchamber.org/events/details/event-at-edenbrook-champions-01-31-2008-2395
END:VEVENT

END:VCALENDAR
