BEGIN:VCALENDAR
VERSION:2.0
PRODID:-//ChamberMaster//Event Calendar 2.0//EN
METHOD:PUBLISH
X-PUBLISHED-TTL:P3D
REFRESH-INTERVAL:P3D
CALSCALE:GREGORIAN
BEGIN:VEVENT
DTSTART:20080206T220000Z
DTEND:20080207T030000Z
X-MICROSOFT-CDO-ALLDAYEVENT:FALSE
SUMMARY:Event at Baby and Me
DESCRIPTION:Mom's Club in The Woodlands is having a fundraiser for Baby and Me. Email Nancy to get the flier. Please pass the fliers out to anyone who will take one and then on Wednesday\, February 6th\, everyone eats dinner at Fuddruckers and presents their flier when they order\; for every order that is accompanied by a flier\, a percentage of that order will go to Baby and Me. It starts at 4:00 running through closing that night\, so you can go anytime that evening and have it count. There are 3 fliers to the page\, so if you print them\, just go ahead and cut them apart for 3 different people. Also\, you can email these out to friends and family. Just be sure that everyone understands that they have to PRESENT the flier when they order.
X-ALT-DESC;FMTTYPE=text/html:<div>Mom&rsquo\;s Club in The Woodlands is having a fundraiser for Baby and Me. Email Nancy to get the flier. Please pass the fliers out to anyone who will take one and then on Wednesday\, February 6th\, everyone eats dinner at Fuddruckers and presents their flier when they order\; for every order that is accompanied by a flier\, a percentage of that order will go to Baby and Me. It starts at 4:00 running through closing that night\, so you can go anytime that evening and have it count. There are 3 fliers to the page\, so if you print them\, just go ahead and cut them apart for 3 different people. Also\, you can email these out to friends and family. Just be sure that everyone understands that they have to PRESENT the flier when they order.</div>
LOCATION:2290 Buckthorn Pl in The Woodlands
UID:e.155.2387
SEQUENCE:3
DTSTAMP:20260421T182801Z
URL:https://business.tomballchamber.org/events/details/event-at-baby-and-me-02-06-2008-2387
END:VEVENT

END:VCALENDAR
