BEGIN:VCALENDAR
VERSION:2.0
PRODID:-//ChamberMaster//Event Calendar 2.0//EN
METHOD:PUBLISH
X-PUBLISHED-TTL:P3D
REFRESH-INTERVAL:P3D
CALSCALE:GREGORIAN
BEGIN:VEVENT
DTSTART;VALUE=DATE:20080329
DTEND;VALUE=DATE:20080330
TRANSP:TRANSPARENT
X-MICROSOFT-CDO-ALLDAYEVENT:TRUE
SUMMARY:Event at Aquascapes\, Imagine Pools & Spas North
DESCRIPTION:Join us for fun in the sun!\n\n \n\nCome by for some great BBQ and give aways!\n\n \n\nSee our Display Pool and enjoy the fun!\n\n \n\nTime:  11:00 - 4:00
X-ALT-DESC;FMTTYPE=text/html:Join us for fun in the sun!\n\n \n\nCome by for some great BBQ and give aways!\n\n \n\nSee our Display Pool and enjoy the fun!\n\n \n\nTime:  11:00 - 4:00 \n\n
LOCATION:25310 FM 2978 Tomball\, Texas 77375
UID:e.155.2404
SEQUENCE:3
DTSTAMP:20260421T182919Z
URL:https://business.tomballchamber.org/events/details/event-at-aquascapes-imagine-pools-spas-north-03-29-2008-2404
END:VEVENT

END:VCALENDAR
