BEGIN:VCALENDAR
VERSION:2.0
PRODID:-//ChamberMaster//Event Calendar 2.0//EN
METHOD:PUBLISH
X-PUBLISHED-TTL:P3D
REFRESH-INTERVAL:P3D
CALSCALE:GREGORIAN
BEGIN:VEVENT
DTSTART:20070504T170000Z
DTEND:20070504T180000Z
X-MICROSOFT-CDO-ALLDAYEVENT:FALSE
SUMMARY:Essay Contest Ceremony
DESCRIPTION:Tomball Centennial Commission \nTomball School Children Essay Contest\nCeremony to be held at First Friday Luncheon of\nGreater Tomball Area Chamber of Commerce
X-ALT-DESC;FMTTYPE=text/html:Tomball Centennial Commission <br />Tomball School Children Essay Contest<br />Ceremony to be held at First Friday Luncheon of<br />Greater Tomball Area Chamber of Commerce
LOCATION:Elmer Beckendorf Conference Center Tomball College 30555 Tomball Parkway
UID:e.155.1368
SEQUENCE:3
DTSTAMP:20260422T104427Z
URL:https://business.tomballchamber.org/events/details/essay-contest-ceremony-05-04-2007-1368
END:VEVENT

END:VCALENDAR
