BEGIN:VCALENDAR
VERSION:2.0
PRODID:-//ChamberMaster//Event Calendar 2.0//EN
METHOD:PUBLISH
X-PUBLISHED-TTL:P3D
REFRESH-INTERVAL:P3D
CALSCALE:GREGORIAN
BEGIN:VEVENT
DTSTART:20241224T220000Z
DTEND:20241225T003000Z
X-MICROSOFT-CDO-ALLDAYEVENT:FALSE
SUMMARY:Equip Church Christmas Eve Services
DESCRIPTION:Join us at one of our Christmas Eve Services at 4:00 PM or 5:30 PM as we celebrate the birth of Jesus Christ! Come as you are and invite family and friends!
X-ALT-DESC;FMTTYPE=text/html:Join us at one of our Christmas Eve Services at 4:00 PM or 5:30 PM as we celebrate the birth of Jesus Christ! Come as you are and invite family and friends!
LOCATION:1101 W Main Street Tomball\, TX 77375
UID:e.155.39272
SEQUENCE:3
DTSTAMP:20260420T155624Z
URL:https://business.tomballchamber.org/events/details/equip-church-christmas-eve-services-39272
END:VEVENT

END:VCALENDAR
