BEGIN:VCALENDAR
VERSION:2.0
PRODID:-//ChamberMaster//Event Calendar 2.0//EN
METHOD:PUBLISH
X-PUBLISHED-TTL:P3D
REFRESH-INTERVAL:P3D
CALSCALE:GREGORIAN
BEGIN:VEVENT
DTSTART:20230211T170000Z
DTEND:20230211T190000Z
X-MICROSOFT-CDO-ALLDAYEVENT:FALSE
SUMMARY:Encaustic Photo Transfer Workshop
DESCRIPTION:Learn to paint with wax! In this specialty workshop\, you'll be using your own black and white photos and tissue paper of all colors to create beautifully layered compositions! We'll also be incising and tinting the surface with pigment sticks. ALL supplies included. This 2 hour workshop is designed for artists of all levels\, even those new to encaustic painting. To save time\, Shauna will contact you via email to send your favorite B&W image . She will have it printed for you and ready to go for class. Don't worry\, she will also walk you through the entire printing process so that you can easily continue this exciting medium in your own home. You will leave this workshop with your very own 8"x10" encaustic work of art on wood!
X-ALT-DESC;FMTTYPE=text/html:Learn to paint with wax! In this specialty workshop\, you&rsquo\;ll be using your own black and white photos and tissue paper of all colors to create beautifully layered compositions! We&rsquo\;ll also be incising and tinting the surface with pigment sticks. ALL supplies included. This 2 hour workshop is designed for artists of all levels\, even those new to encaustic painting. To save time\, Shauna will contact you via email to send your favorite B&amp\;W image . She will have it printed for you and ready to go for class. Don&rsquo\;t worry\, she will also walk you through the entire printing process so that you can easily continue this exciting medium in your own home. You will leave this workshop with your very own 8&rdquo\;x10&rdquo\; encaustic work of art on wood!
LOCATION:Hampton Inn & Suites in Tomball - 14100 Medical Complex Drive\, Tomball\, TX 77377
UID:e.155.37393
SEQUENCE:3
DTSTAMP:20260420T113620Z
URL:https://business.tomballchamber.org/events/details/encaustic-photo-transfer-workshop-37393
END:VEVENT

END:VCALENDAR
