BEGIN:VCALENDAR
VERSION:2.0
PRODID:-//ChamberMaster//Event Calendar 2.0//EN
METHOD:PUBLISH
X-PUBLISHED-TTL:P3D
REFRESH-INTERVAL:P3D
CALSCALE:GREGORIAN
BEGIN:VEVENT
DTSTART:20080612T110000Z
DTEND:20080612T150000Z
X-MICROSOFT-CDO-ALLDAYEVENT:FALSE
SUMMARY:Employment Process Update - Hiring Practices
DESCRIPTION:Hosted by Barhorst Insurance GroupEmployment Process Update - Hiring Practices & Background ChecksContinental Breakfast provided
X-ALT-DESC;FMTTYPE=text/html:<div>Hosted by Barhorst Insurance Group</div><div>Employment Process Update - Hiring Practices &amp\; Background Checks</div><div>Continental Breakfast provided</div>
LOCATION:Barhorst Insurance Group ( BIG Training Center)8220 Jones Road\, Suuite 400driving directions www.big-usa.com
UID:e.155.2483
SEQUENCE:3
DTSTAMP:20260421T110513Z
URL:https://business.tomballchamber.org/events/details/employment-process-update-hiring-practices-06-12-2008-2483
END:VEVENT

END:VCALENDAR
