BEGIN:VCALENDAR
VERSION:2.0
PRODID:-//ChamberMaster//Event Calendar 2.0//EN
METHOD:PUBLISH
X-PUBLISHED-TTL:P3D
REFRESH-INTERVAL:P3D
CALSCALE:GREGORIAN
BEGIN:VEVENT
DTSTART:20070512T120000Z
DTEND:20070513T000000Z
X-MICROSOFT-CDO-ALLDAYEVENT:FALSE
SUMMARY:Election Day Voting
DESCRIPTION:Mayor / City Council Election\nTISD Bond Election
X-ALT-DESC;FMTTYPE=text/html:Mayor / City Council Election<br />TISD Bond Election
LOCATION:Montgomery Precincts: 013\,028\,029\,066 Decker Prairie Elementary 27427 Rosehill Rd Harris County Precincts: 0726 Salem Lutheran Church School -22601 Lutheran Church Rd Harric County Precincts: 0126 Rosehill Volunteer Fire Dept - 19023 FM 2920 Harris County Precincts: 0127\, 0245\, & 0529 Tomball City Hall - 401 Market St Harris County Precincts: 0484 & 0486 Lakewood Elementary - 15614 Gettysburg Drive Harris County Precincts: 0485 & 0173 Willow Creek Elementary - 18302 North Eldridge Parkway Harris County Precincts: 0690 & 0114 Samuel Mathews Park Community Center - 1728 Hufsmith Rd
UID:e.155.1665
SEQUENCE:3
DTSTAMP:20260422T104417Z
URL:https://business.tomballchamber.org/events/details/election-day-voting-05-12-2007-1665
END:VEVENT

END:VCALENDAR
