BEGIN:VCALENDAR
VERSION:2.0
PRODID:-//ChamberMaster//Event Calendar 2.0//EN
METHOD:PUBLISH
X-PUBLISHED-TTL:P3D
REFRESH-INTERVAL:P3D
CALSCALE:GREGORIAN
BEGIN:VEVENT
DTSTART:20080116T223000Z
DTEND:20080117T013000Z
X-MICROSOFT-CDO-ALLDAYEVENT:FALSE
SUMMARY:Eden Brook of Champions - Happy Hour
DESCRIPTION:Eden Brook of ChampionsFeeling Great in 08 Happy HourJoin us from 4:30 - 7:30 p.m.Wednesday January 16 atBJ Brewhouse - FM 1960 and SH 249
X-ALT-DESC;FMTTYPE=text/html:<div>Eden Brook of Champions</div><div>Feeling Great in 08 Happy Hour</div><div>Join us from 4:30 - 7:30 p.m.</div><div>Wednesday January 16 at</div><div>BJ Brewhouse - FM 1960 and SH 249</div>
LOCATION:
UID:e.155.2381
SEQUENCE:3
DTSTAMP:20260421T214743Z
URL:https://business.tomballchamber.org/events/details/eden-brook-of-champions-happy-hour-01-16-2008-2381
END:VEVENT

END:VCALENDAR
