BEGIN:VCALENDAR
VERSION:2.0
PRODID:-//ChamberMaster//Event Calendar 2.0//EN
METHOD:PUBLISH
X-PUBLISHED-TTL:P3D
REFRESH-INTERVAL:P3D
CALSCALE:GREGORIAN
BEGIN:VEVENT
DTSTART;VALUE=DATE:20070604
DTEND;VALUE=DATE:20070613
TRANSP:TRANSPARENT
X-MICROSOFT-CDO-ALLDAYEVENT:TRUE
SUMMARY:Early Voting for Tomball City Council Position 3
DESCRIPTION:Candidates in the runonff election for City Council Position 3 are H. G. "Hap" Harrington and Bill Webb
X-ALT-DESC;FMTTYPE=text/html:<font size="2">Candidates in the runonff election for&nbsp\;City Council Position 3 are H. G. &quot\;Hap&quot\; Harrington and Bill Webb</font>
LOCATION:Tomball City Hall 401 Market St.\, Tomball\, TX
UID:e.155.2237
SEQUENCE:3
DTSTAMP:20260422T074438Z
URL:https://business.tomballchamber.org/events/details/early-voting-for-tomball-city-council-position-3-06-04-2007-2237
END:VEVENT

END:VCALENDAR
