BEGIN:VCALENDAR
VERSION:2.0
PRODID:-//ChamberMaster//Event Calendar 2.0//EN
METHOD:PUBLISH
X-PUBLISHED-TTL:P3D
REFRESH-INTERVAL:P3D
CALSCALE:GREGORIAN
BEGIN:VEVENT
DTSTART:20070929T150000Z
DTEND:20070929T230000Z
X-MICROSOFT-CDO-ALLDAYEVENT:FALSE
SUMMARY:DogFest 2007
DESCRIPTION:Vendors\, Dog Merchandise\, VItal Information
X-ALT-DESC;FMTTYPE=text/html:Vendors\, Dog Merchandise\, VItal Information
LOCATION:Juergen's Park - Tomball Ulrich Rd.
UID:e.155.1364
SEQUENCE:3
DTSTAMP:20260422T025709Z
URL:https://business.tomballchamber.org/events/details/dogfest-2007-09-29-2007-1364
END:VEVENT

END:VCALENDAR
