BEGIN:VCALENDAR
VERSION:2.0
PRODID:-//ChamberMaster//Event Calendar 2.0//EN
METHOD:PUBLISH
X-PUBLISHED-TTL:P3D
REFRESH-INTERVAL:P3D
CALSCALE:GREGORIAN
BEGIN:VEVENT
DTSTART:20080326T160000Z
DTEND:20080326T180000Z
X-MICROSOFT-CDO-ALLDAYEVENT:FALSE
SUMMARY:Direct Mail Seminar
DESCRIPTION:Seminar - Building Your Business with Direct Mailpresented by the Small Business Development Center
X-ALT-DESC;FMTTYPE=text/html:<div>Seminar - Building Your Business with Direct Mail</div><div>presented by the Small Business Development Center</div>
LOCATION:Lone Star College - North HarrisThe Woodlands\, Texas 77381
UID:e.155.2459
SEQUENCE:3
DTSTAMP:20260421T163907Z
URL:https://business.tomballchamber.org/events/details/direct-mail-seminar-03-26-2008-2459
END:VEVENT

END:VCALENDAR
