BEGIN:VCALENDAR
VERSION:2.0
PRODID:-//ChamberMaster//Event Calendar 2.0//EN
METHOD:PUBLISH
X-PUBLISHED-TTL:P3D
REFRESH-INTERVAL:P3D
CALSCALE:GREGORIAN
BEGIN:VEVENT
DTSTART:20221112T160000Z
DTEND:20221112T220000Z
X-MICROSOFT-CDO-ALLDAYEVENT:FALSE
SUMMARY:Depot Day
DESCRIPTION:Bring your family and dive into the world of trains and model railroads! Tomball celebrates its roots and National Railroad Month every November at the annual Depot Day celebration. This one-day event features Lionel O-scale\, Z-scale\, and G-scale model railroads. Visitors will enjoy live old-style tunes\, the Depot museum tours\, and talk with costumed volunteers about the golden age of railroading.
X-ALT-DESC;FMTTYPE=text/html:Bring your family and dive into the world of trains and model railroads! Tomball celebrates its roots and National Railroad Month every November at the annual Depot Day celebration. This one-day event features Lionel O-scale\, Z-scale\, and G-scale model railroads. Visitors will enjoy live old-style tunes\, the Depot museum tours\, and talk with costumed volunteers about the golden age of railroading.
LOCATION:The Depot 201 S. Elm Tomball\, TX 77375
UID:e.155.37370
SEQUENCE:3
DTSTAMP:20260420T163745Z
URL:https://business.tomballchamber.org/events/details/depot-day-37370
END:VEVENT

END:VCALENDAR
