BEGIN:VCALENDAR
VERSION:2.0
PRODID:-//ChamberMaster//Event Calendar 2.0//EN
METHOD:PUBLISH
X-PUBLISHED-TTL:P3D
REFRESH-INTERVAL:P3D
CALSCALE:GREGORIAN
BEGIN:VEVENT
DTSTART:20080509T040000Z
DTEND:20080508T180000Z
X-MICROSOFT-CDO-ALLDAYEVENT:FALSE
SUMMARY:Defending Against Unemployment Claims
DESCRIPTION:Hosted by Barhorst Insurance GroupDefending Against Unemployment
X-ALT-DESC;FMTTYPE=text/html:<p>Hosted by Barhorst Insurance Group</p><p>Defending Against Unemployment</p>
LOCATION:Brown Bag Lunch ProvidedBarhorst Insurance Group ( BIG Training Center)8220 Jones Road\, Suite 400For driving directions www.big-usa.com
UID:e.155.2482
SEQUENCE:3
DTSTAMP:20260421T130336Z
URL:https://business.tomballchamber.org/events/details/defending-against-unemployment-claims-05-08-2008-2482
END:VEVENT

END:VCALENDAR
