BEGIN:VCALENDAR
VERSION:2.0
PRODID:-//ChamberMaster//Event Calendar 2.0//EN
METHOD:PUBLISH
X-PUBLISHED-TTL:P3D
REFRESH-INTERVAL:P3D
CALSCALE:GREGORIAN
BEGIN:VEVENT
DTSTART:20070825T233000Z
DTEND:20070826T043000Z
X-MICROSOFT-CDO-ALLDAYEVENT:FALSE
SUMMARY:''Dancing with our STAARZ'' Royal Arts Ball
DESCRIPTION:The Regional Arts Council (TRAC) is preparing for their annual Royal Arts Ball fundraising event\, "Dancing with our STAARZ"\,at Shirley Acres\, August 25\, 2007. This Ball promises to be a magical evening complete with dining\, lively entertainment including dancing\, dance contest\, silent auction and much\, much more.
X-ALT-DESC;FMTTYPE=text/html:The Regional Arts Council (TRAC) is preparing for their annual Royal Arts Ball fundraising event\, &quot\;Dancing with our STAARZ&quot\;\,at Shirley Acres\, August 25\, 2007. This Ball promises to be a magical evening complete with dining\, lively entertainment including dancing\, dance contest\, silent auction and much\, much more.
LOCATION:Shirley Acres\, 217 Woerner\, Houston 77090
UID:e.155.2258
SEQUENCE:3
DTSTAMP:20260422T045356Z
URL:https://business.tomballchamber.org/events/details/dancing-with-our-staarz-royal-arts-ball-08-25-2007-2258
END:VEVENT

END:VCALENDAR
