BEGIN:VCALENDAR
VERSION:2.0
PRODID:-//ChamberMaster//Event Calendar 2.0//EN
METHOD:PUBLISH
X-PUBLISHED-TTL:P3D
REFRESH-INTERVAL:P3D
CALSCALE:GREGORIAN
BEGIN:VEVENT
DTSTART:20230625T150000Z
DTEND:20230625T210000Z
X-MICROSOFT-CDO-ALLDAYEVENT:FALSE
SUMMARY:Cut-A-Thon & Blood Drive Benefit for Justin & Jessica Dickerson
DESCRIPTION:Join us Sunday\, June 25th for a benefit put together to help raise funds for Jessy & Justin Dickerson. As they navigate the journey of Justin's recent diagnosis of Stage 4 Burkitt Cell Lymphoma\, we want to help them keep what they have worked so hard for and ease the burden of being out of work as they fight this highly aggressive disease. What's on the agenda -   CUT-A-THON by Carbon's Artists   blood drive hosted by Methodist Hospital   silent auction   live raffle   snow-cone stand   bake sale   and more! We are so grateful and appreciative to see our community come together and support this newly married couple navigate this challenging season of life.
X-ALT-DESC;FMTTYPE=text/html:Join us Sunday\, June 25th for a benefit put together to help raise funds for Jessy &amp\; Justin Dickerson. As they navigate the journey of Justin&rsquo\;s recent diagnosis of Stage 4 Burkitt Cell Lymphoma\, we want to help them keep what they have worked so hard for and ease the burden of being out of work as they fight this highly aggressive disease. What&rsquo\;s on the agenda - &bull\; CUT-A-THON by Carbon&rsquo\;s Artists &bull\; blood drive hosted by Methodist Hospital &bull\; silent auction &bull\; live raffle &bull\; snow-cone stand &bull\; bake sale &bull\; and more! We are so grateful and appreciative to see our community come together and support this newly married couple navigate this challenging season of life.
LOCATION:3846 W Davis St. Suite 200 Conroe\, TX 77304
UID:e.155.37986
SEQUENCE:3
DTSTAMP:20260420T062112Z
URL:https://business.tomballchamber.org/events/details/cut-a-thon-blood-drive-benefit-for-justin-jessica-dickerson-37986
END:VEVENT

END:VCALENDAR
