BEGIN:VCALENDAR
VERSION:2.0
PRODID:-//ChamberMaster//Event Calendar 2.0//EN
METHOD:PUBLISH
X-PUBLISHED-TTL:P3D
REFRESH-INTERVAL:P3D
CALSCALE:GREGORIAN
BEGIN:VEVENT
DTSTART;VALUE=DATE:20080313
DTEND;VALUE=DATE:20080330
TRANSP:TRANSPARENT
X-MICROSOFT-CDO-ALLDAYEVENT:TRUE
SUMMARY:Customer Appreciation Day
DESCRIPTION:All Floors and More will be holding a Customer Appreciation day on March 29\,2008.\nThere will be door prizes as well as food free of charge.Thank you Tomball for all the support we have received and countinued receiving.All customers that day are able to take off 10% of there total cost.
X-ALT-DESC;FMTTYPE=text/html:All Floors and More will be holding a Customer Appreciation day on March 29\,2008.\nThere will be door prizes as well as food free of charge.Thank you Tomball for all the support we have received and countinued receiving.All customers that day are able to take off 10% of there total cost.
LOCATION:24922 tomball pkwy st101
UID:e.155.2446
SEQUENCE:3
DTSTAMP:20260421T163932Z
URL:https://business.tomballchamber.org/events/details/customer-appreciation-day-03-13-2008-2446
END:VEVENT

END:VCALENDAR
