BEGIN:VCALENDAR
VERSION:2.0
PRODID:-//ChamberMaster//Event Calendar 2.0//EN
METHOD:PUBLISH
X-PUBLISHED-TTL:P3D
REFRESH-INTERVAL:P3D
CALSCALE:GREGORIAN
BEGIN:VEVENT
DTSTART;VALUE=DATE:20080201
DTEND;VALUE=DATE:20080302
TRANSP:TRANSPARENT
X-MICROSOFT-CDO-ALLDAYEVENT:TRUE
SUMMARY:''Count Dracula''
DESCRIPTION:Lone Star College - Tomball Theatre presents "Count Dracula"
X-ALT-DESC;FMTTYPE=text/html:Lone Star College - Tomball Theatre presents "Count Dracula"
LOCATION:Lone Star College - Tomball Black Box Theatre
UID:e.155.2386
SEQUENCE:3
DTSTAMP:20260421T163915Z
URL:https://business.tomballchamber.org/events/details/count-dracula-02-01-2008-2386
END:VEVENT

END:VCALENDAR
