BEGIN:VCALENDAR
VERSION:2.0
PRODID:-//ChamberMaster//Event Calendar 2.0//EN
METHOD:PUBLISH
X-PUBLISHED-TTL:P3D
REFRESH-INTERVAL:P3D
CALSCALE:GREGORIAN
BEGIN:VEVENT
DTSTART:20080920T180000Z
DTEND:20080920T210000Z
X-MICROSOFT-CDO-ALLDAYEVENT:FALSE
SUMMARY:Concert in the Park to Benefit Montgomery County Youth Services
DESCRIPTION:Saturday\, September 20\, 2008 from 1-4 p.m. join the Woodlands Christian Business Network (WCBN) in the first annual Christian Concert in the Park at Northshore Park on Lake Woodlands Drive to benefit Montgomery County Youth Services. The Christian Concert in the Park will feature bands Ember Glow\, Pathfinders Praise and Worship Band\, and Love Street Light Circus. Admission is free to the public\, food and beverages provided by Skeeter?s Mesquite Grill will be available for purchase.\n\n	WCBN partnered with Montgomery County Youth Services? Guardian Angel Program earlier this year to raise money to cover the operating costs associated with this non-profit group. Brian Boniface\, WCBN president said hosting a community-wide event to benefit the group was well-received by everyone. ?The idea of uniting business and residential communities in The Woodlands at a Christian Concert in the Park for a local cause has been met with wide-spread support among the Christian bands who are donating their time\, businesses\, WCBN members and youth services.? Sponsorship opportunities to benefit Montgomery County Youth Services are available. Contact WCBN for more information.
X-ALT-DESC;FMTTYPE=text/html:Saturday\, September 20\, 2008 from 1-4 p.m. join the Woodlands Christian Business Network (WCBN) in the first annual Christian Concert in the Park at Northshore Park on Lake Woodlands Drive to benefit Montgomery County Youth Services. The Christian Concert in the Park will feature bands Ember Glow\, Pathfinders Praise and Worship Band\, and Love Street Light Circus. Admission is free to the public\, food and beverages provided by Skeeter?s Mesquite Grill will be available for purchase.\n\n	WCBN partnered with Montgomery County Youth Services? Guardian Angel Program earlier this year to raise money to cover the operating costs associated with this non-profit group. Brian Boniface\, WCBN president said hosting a community-wide event to benefit the group was well-received by everyone. ?The idea of uniting business and residential communities in The Woodlands at a Christian Concert in the Park for a local cause has been met with wide-spread support among the Christian bands who are donating their time\, businesses\, WCBN members and youth services.? Sponsorship opportunities to benefit Montgomery County Youth Services are available. Contact WCBN for more information.\n
LOCATION:Northshore Park on Lake Woodlands Drive
UID:e.155.2601
SEQUENCE:3
DTSTAMP:20260421T090213Z
URL:https://business.tomballchamber.org/events/details/concert-in-the-park-to-benefit-montgomery-county-youth-services-09-20-2008-2601
END:VEVENT

END:VCALENDAR
