BEGIN:VCALENDAR
VERSION:2.0
PRODID:-//ChamberMaster//Event Calendar 2.0//EN
METHOD:PUBLISH
X-PUBLISHED-TTL:P3D
REFRESH-INTERVAL:P3D
CALSCALE:GREGORIAN
BEGIN:VEVENT
DTSTART;VALUE=DATE:20070801
DTEND;VALUE=DATE:20070829
TRANSP:TRANSPARENT
X-MICROSOFT-CDO-ALLDAYEVENT:TRUE
SUMMARY:Computer Classes
DESCRIPTION:The Tomball College and Community Library offers several basic computing classes to the public. All classes are held in the 2nd floor computer lab L216 of the library. Please pre-register in-person at the library or by calling (832) 559-4213. Computer Basics I - Aug. 1 @ 10 am and Aug. 7 @ 2 pm Computer Basics II - Aug. 8 @ 10 am and Aug. 14 @ 2 pm Computer Basics III - Aug. 15 @ 10 am and Aug. 21 @ 2 pm Getting Started With E-Mail - Aug. 29 @ 10 am Introduction to the Internet - Aug. 22 @ 10 am and Aug. 28 at 2 pm Microsoft Word I - Aug. 2 @ 2 pm and Aug. 6 @ 10 am Microsoft Word II - Aug. 9 @ 2 pm and Aug. 13 @ 10 am Microsoft Word III - Aug. 16 @ 2 pm and Aug. 20 @ 10 am
X-ALT-DESC;FMTTYPE=text/html:The Tomball College and Community Library offers several basic computing classes to the public. All classes are held in the 2nd floor computer lab L216 of the library. Please pre-register in-person at the library or by calling (832) 559-4213. Computer Basics I - Aug. 1 @ 10 am and Aug. 7 @ 2 pm Computer Basics II - Aug. 8 @ 10 am and Aug. 14 @ 2 pm Computer Basics III - Aug. 15 @ 10 am and Aug. 21 @ 2 pm Getting Started With E-Mail - Aug. 29 @ 10 am Introduction to the Internet - Aug. 22 @ 10 am and Aug. 28 at 2 pm Microsoft Word I - Aug. 2 @ 2 pm and Aug. 6 @ 10 am Microsoft Word II - Aug. 9 @ 2 pm and Aug. 13 @ 10 am Microsoft Word III - Aug. 16 @ 2 pm and Aug. 20 @ 10 am
LOCATION:Tomball College and Community Library\, 30555 Tomball Pkwy.
UID:e.155.2277
SEQUENCE:3
DTSTAMP:20260422T044303Z
URL:https://business.tomballchamber.org/events/details/computer-classes-08-01-2007-2277
END:VEVENT

END:VCALENDAR
