BEGIN:VCALENDAR
VERSION:2.0
PRODID:-//ChamberMaster//Event Calendar 2.0//EN
METHOD:PUBLISH
X-PUBLISHED-TTL:P3D
REFRESH-INTERVAL:P3D
CALSCALE:GREGORIAN
BEGIN:VEVENT
DTSTART:20071014T153000Z
DTEND:20071014T163000Z
X-MICROSOFT-CDO-ALLDAYEVENT:FALSE
SUMMARY:Community Center Groundbreaking
DESCRIPTION:Groundbreaking ceremony for the 90\,000 square foot Community Center to open late 2008\; early 2009. The Community Center will house a double gymnasium\, cafe\, indoor running track and fitness area as well as children and youth auditoriums. Will be open for public usage.
X-ALT-DESC;FMTTYPE=text/html:Groundbreaking ceremony for the 90\,000 square foot Community Center to open late 2008\; early 2009. The Community Center will house a double gymnasium\, cafe\, indoor running track and fitness area as well as children and youth auditoriums. Will be open for public usage.
LOCATION:Salem Lutheran Church Campus
UID:e.155.2331
SEQUENCE:3
DTSTAMP:20260422T011201Z
URL:https://business.tomballchamber.org/events/details/community-center-groundbreaking-10-14-2007-2331
END:VEVENT

END:VCALENDAR
