BEGIN:VCALENDAR
VERSION:2.0
PRODID:-//ChamberMaster//Event Calendar 2.0//EN
METHOD:PUBLISH
X-PUBLISHED-TTL:P3D
REFRESH-INTERVAL:P3D
CALSCALE:GREGORIAN
BEGIN:VEVENT
DTSTART:20071201T160000Z
DTEND:20071202T020000Z
X-MICROSOFT-CDO-ALLDAYEVENT:FALSE
SUMMARY:''Come home for the Holidays and Wassailfest''
DESCRIPTION:
X-ALT-DESC;FMTTYPE=text/html:
LOCATION:Downtown Tomball
UID:e.155.2365
SEQUENCE:3
DTSTAMP:20260421T214635Z
URL:https://business.tomballchamber.org/events/details/come-home-for-the-holidays-and-wassailfest-12-01-2007-2365
END:VEVENT

END:VCALENDAR
