BEGIN:VCALENDAR
VERSION:2.0
PRODID:-//ChamberMaster//Event Calendar 2.0//EN
METHOD:PUBLISH
X-PUBLISHED-TTL:P3D
REFRESH-INTERVAL:P3D
CALSCALE:GREGORIAN
BEGIN:VEVENT
DTSTART:20070809T123000Z
DTEND:20070809T140000Z
X-MICROSOFT-CDO-ALLDAYEVENT:FALSE
SUMMARY:Coffee with the Mayor - Public Welcome
DESCRIPTION:Come join Tomballs Mayor - Gretchen Fagan on August 9\, 2007 at Main Street Crossing for a "Mayor's Coffee"  Starting at 7:30 a.m. this gathering will be a time to ask any questions or address any concerns you have regarding the City of Tomball.  For information call 281.290.1001 - No reservations needed.
X-ALT-DESC;FMTTYPE=text/html:<div>Come join Tomballs Mayor - Gretchen Fagan on August 9\, 2007 at Main Street Crossing for a &quot\;Mayor's Coffee&quot\;&nbsp\; Starting at 7:30 a.m. this gathering will be a time to ask any questions or address any concerns you have regarding the City of Tomball.&nbsp\; For information call 281.290.1001 - No reservations needed.</div>
LOCATION:Main Street Crossing100 Block of W. Main St.Tomball\, Texas
UID:e.155.2293
SEQUENCE:3
DTSTAMP:20260422T060629Z
URL:https://business.tomballchamber.org/events/details/coffee-with-the-mayor-public-welcome-08-09-2007-2293
END:VEVENT

END:VCALENDAR
