BEGIN:VCALENDAR
VERSION:2.0
PRODID:-//ChamberMaster//Event Calendar 2.0//EN
METHOD:PUBLISH
X-PUBLISHED-TTL:P3D
REFRESH-INTERVAL:P3D
CALSCALE:GREGORIAN
BEGIN:VEVENT
DTSTART:20080804T213000Z
DTEND:20080804T221500Z
X-MICROSOFT-CDO-ALLDAYEVENT:FALSE
SUMMARY:Coffee with the Congressman
DESCRIPTION:Come join Congressman Michael McCaul (TX-10) for some coffee and fellowship.\n\nMeet our Congressman Michael McCaul and talk about issues important to you!
X-ALT-DESC;FMTTYPE=text/html:Come join Congressman Michael McCaul (TX-10) for some coffee and fellowship.\n\nMeet our Congressman Michael McCaul and talk about issues important to you!
LOCATION:South Texas Coffee 425 Main Street Tomball\, TX
UID:e.155.2577
SEQUENCE:3
DTSTAMP:20260421T094515Z
URL:https://business.tomballchamber.org/events/details/coffee-with-the-congressman-08-04-2008-2577
END:VEVENT

END:VCALENDAR
