BEGIN:VCALENDAR
VERSION:2.0
PRODID:-//ChamberMaster//Event Calendar 2.0//EN
METHOD:PUBLISH
X-PUBLISHED-TTL:P3D
REFRESH-INTERVAL:P3D
CALSCALE:GREGORIAN
BEGIN:VEVENT
DTSTART:20070616T120000Z
DTEND:20070617T000000Z
X-MICROSOFT-CDO-ALLDAYEVENT:FALSE
SUMMARY:City of Tomball City Council Position 3 Runoff Election
DESCRIPTION:Candidates in the runonff election for City Council Position 3 are H. G. "Hap" Harrington and Bill Webb
X-ALT-DESC;FMTTYPE=text/html:Candidates in the runonff election for&nbsp\;City Council Position 3 are H. G. &quot\;Hap&quot\; Harrington and Bill Webb
LOCATION:Regular voting takes place at Tomball City Hall at 401 Market St.\, Tomball\, TX. You must be a registered voter\, and a citizen of the City of Tomball in order to vote in this runoff election.
UID:e.155.2236
SEQUENCE:3
DTSTAMP:20260422T074907Z
URL:https://business.tomballchamber.org/events/details/city-of-tomball-city-council-position-3-runoff-election-06-16-2007-2236
END:VEVENT

END:VCALENDAR
