BEGIN:VCALENDAR
VERSION:2.0
PRODID:-//ChamberMaster//Event Calendar 2.0//EN
METHOD:PUBLISH
X-PUBLISHED-TTL:P3D
REFRESH-INTERVAL:P3D
CALSCALE:GREGORIAN
BEGIN:VEVENT
DTSTART:20080607T140000Z
DTEND:20080607T170000Z
X-MICROSOFT-CDO-ALLDAYEVENT:FALSE
SUMMARY:CIty - Hazardous Waste Collection Day
DESCRIPTION:The City is having a hazardous waste collection on Saturday\, June 7th from 9 AM - Noonin the City Hall parking Lot on Market Street.Will be accepting e-waste which includes TV's and Computers
X-ALT-DESC;FMTTYPE=text/html:<div>The City is having a hazardous waste collection on Saturday\, June 7th from 9 AM - Noon</div><div>in the City Hall parking Lot on Market Street.</div><div>Will be accepting e-waste which includes TV's and Computers</div>
LOCATION:City Hall Parking Lot401 Market
UID:e.155.2514
SEQUENCE:3
DTSTAMP:20260421T110905Z
URL:https://business.tomballchamber.org/events/details/city-hazardous-waste-collection-day-06-07-2008-2514
END:VEVENT

END:VCALENDAR
