BEGIN:VCALENDAR
VERSION:2.0
PRODID:-//ChamberMaster//Event Calendar 2.0//EN
METHOD:PUBLISH
X-PUBLISHED-TTL:P3D
REFRESH-INTERVAL:P3D
CALSCALE:GREGORIAN
BEGIN:VEVENT
DTSTART;VALUE=DATE:20070414
DTEND;VALUE=DATE:20070415
TRANSP:TRANSPARENT
X-MICROSOFT-CDO-ALLDAYEVENT:TRUE
SUMMARY:Church at Friendship Golf Tournament
DESCRIPTION:1st Annual Golf Tournament
X-ALT-DESC;FMTTYPE=text/html:<p>1st Annual Golf Tournament<br /></p>
LOCATION:Terra Verde Golf Course 22602 Hegar Road Hockley\, Texas 77447
UID:e.155.1385
SEQUENCE:3
DTSTAMP:20260422T105015Z
URL:https://business.tomballchamber.org/events/details/church-at-friendship-golf-tournament-04-14-2007-1385
END:VEVENT

END:VCALENDAR
