BEGIN:VCALENDAR
VERSION:2.0
PRODID:-//ChamberMaster//Event Calendar 2.0//EN
METHOD:PUBLISH
X-PUBLISHED-TTL:P3D
REFRESH-INTERVAL:P3D
CALSCALE:GREGORIAN
BEGIN:VEVENT
DTSTART:20071220T230000Z
DTEND:20071221T030000Z
X-MICROSOFT-CDO-ALLDAYEVENT:FALSE
SUMMARY:Christmas in the Olde Market Village and Open House
DESCRIPTION:Please join The Regional Arts Council and Texas Master Chorale for an Open House and Christmass Celebration in the Olde Market Village.\n\nCome and enjoy singing by Texas Master Chorale\, food\, shopping and lots of Holiday Fun!
X-ALT-DESC;FMTTYPE=text/html:Please join The Regional Arts Council and Texas Master Chorale for an Open House and Christmass Celebration in the Olde Market Village.\n\nCome and enjoy singing by Texas Master Chorale\, food\, shopping and lots of Holiday Fun!
LOCATION:309 Market Street Tomball\, Texas 77375
UID:e.155.2344
SEQUENCE:3
DTSTAMP:20260421T214937Z
URL:https://business.tomballchamber.org/events/details/christmas-in-the-olde-market-village-and-open-house-12-20-2007-2344
END:VEVENT

END:VCALENDAR
