BEGIN:VCALENDAR
VERSION:2.0
PRODID:-//ChamberMaster//Event Calendar 2.0//EN
METHOD:PUBLISH
X-PUBLISHED-TTL:P3D
REFRESH-INTERVAL:P3D
CALSCALE:GREGORIAN
BEGIN:VEVENT
DTSTART:20071224T210000Z
DTEND:20071225T000000Z
X-MICROSOFT-CDO-ALLDAYEVENT:FALSE
SUMMARY:Christmas Eve Festival
DESCRIPTION:30\,000lbs of snow! Christmas Eve Festival\, free food\, games\, prize drawings including a PlayStation3! Hayrides\, petting zoo and manger and snow games for the kids! Come out and experience sights and sounds of Christmas in the snow! (Also snowing inside at the 6 p.m. and 9 p.m. candlelight services!)
X-ALT-DESC;FMTTYPE=text/html:30\,000lbs of snow! Christmas Eve Festival\, free food\, games\, prize drawings including a PlayStation3! Hayrides\, petting zoo and manger and snow games for the kids! Come out and experience sights and sounds of Christmas in the snow! (Also snowing inside at the 6 p.m. and 9 p.m. candlelight services!)
LOCATION:Salem campus
UID:e.155.2369
SEQUENCE:3
DTSTAMP:20260421T214744Z
URL:https://business.tomballchamber.org/events/details/christmas-eve-festival-12-24-2007-2369
END:VEVENT

END:VCALENDAR
