BEGIN:VCALENDAR
VERSION:2.0
PRODID:-//ChamberMaster//Event Calendar 2.0//EN
METHOD:PUBLISH
X-PUBLISHED-TTL:P3D
REFRESH-INTERVAL:P3D
CALSCALE:GREGORIAN
BEGIN:VEVENT
DTSTART:20071216T230000Z
DTEND:20071217T010000Z
X-MICROSOFT-CDO-ALLDAYEVENT:FALSE
SUMMARY:Christmas at Concordia
DESCRIPTION:Christmas @ Concordia High SchoolAnnual Christmas Concert
X-ALT-DESC;FMTTYPE=text/html:<div>Christmas @ Concordia High School</div><div>Annual Christmas Concert</div>
LOCATION:Christmas @ Concordia High SchoolAnnual Christmas Concert700 E. Main Street
UID:e.155.2373
SEQUENCE:3
DTSTAMP:20260421T214417Z
URL:https://business.tomballchamber.org/events/details/christmas-at-concordia-12-16-2007-2373
END:VEVENT

END:VCALENDAR
