BEGIN:VCALENDAR
VERSION:2.0
PRODID:-//ChamberMaster//Event Calendar 2.0//EN
METHOD:PUBLISH
X-PUBLISHED-TTL:P3D
REFRESH-INTERVAL:P3D
CALSCALE:GREGORIAN
BEGIN:VEVENT
DTSTART:20080208T150000Z
DTEND:20080210T200000Z
X-MICROSOFT-CDO-ALLDAYEVENT:FALSE
SUMMARY:Christian Youth Theater Presents Tom Sawyer
DESCRIPTION:Christian Youth Theater will be presenting a wonderful theatrical production starting Friday February 8th THROUGH Sunday Feb 10th. Its a wonderful play and musical that the kids will love and the whole family will enjoy.
X-ALT-DESC;FMTTYPE=text/html:Christian Youth Theater will be presenting a wonderful theatrical production starting Friday February 8th THROUGH Sunday Feb 10th. Its a wonderful play and musical that the kids will love and the whole family will enjoy. 
LOCATION:Tomball Bible Church @ 400 N Walnut Dr. Tomball\, TX 77375
UID:e.155.2382
SEQUENCE:3
DTSTAMP:20260421T201119Z
URL:https://business.tomballchamber.org/events/details/christian-youth-theater-presents-tom-sawyer-02-08-2008-2382
END:VEVENT

END:VCALENDAR
