BEGIN:VCALENDAR
VERSION:2.0
PRODID:-//ChamberMaster//Event Calendar 2.0//EN
METHOD:PUBLISH
X-PUBLISHED-TTL:P3D
REFRESH-INTERVAL:P3D
CALSCALE:GREGORIAN
BEGIN:VEVENT
DTSTART:20241210T173000Z
DTEND:20241210T190000Z
X-MICROSOFT-CDO-ALLDAYEVENT:FALSE
SUMMARY:Christian Business Luncheon
DESCRIPTION:Holiday Musical Entertainment provided by the Concordia Lutheran HS Choir. Please RSVP. Sponsors are Concordia Lutheran High School and Lori Klein Quinn.
X-ALT-DESC;FMTTYPE=text/html:Holiday Musical Entertainment provided by the Concordia Lutheran HS Choir. Please RSVP. Sponsors are Concordia Lutheran High School and Lori Klein Quinn.
LOCATION:Lone Star College - Tomball Beckendorf Conference Center 30555 Tomball Parkway Tomball\, Texas 77375
UID:e.155.39225
SEQUENCE:3
DTSTAMP:20260420T155920Z
URL:https://business.tomballchamber.org/events/details/christian-business-luncheon-12-10-2024-39225
END:VEVENT

END:VCALENDAR
