BEGIN:VCALENDAR
VERSION:2.0
PRODID:-//ChamberMaster//Event Calendar 2.0//EN
METHOD:PUBLISH
X-PUBLISHED-TTL:P3D
REFRESH-INTERVAL:P3D
CALSCALE:GREGORIAN
BEGIN:VEVENT
DTSTART:20200714T170000Z
DTEND:20200714T180000Z
X-MICROSOFT-CDO-ALLDAYEVENT:FALSE
SUMMARY:Christian Business Luncheon
DESCRIPTION:Virtual Event - Scheduled Speaker is Gordon McCaughey . Gordon has 37 years of operational leadership experience with an emphasis on environmental management strategies. The meeting will be hosted on Zoom with log in information posted on the CBL website.
X-ALT-DESC;FMTTYPE=text/html:Virtual Event - Scheduled Speaker is Gordon McCaughey . Gordon has 37 years of operational leadership experience with an emphasis on environmental management strategies. The meeting will be hosted on Zoom with log in information posted on the CBL website.
LOCATION:Check christianbusinessluncheon.org for log in information.
UID:e.155.32455
SEQUENCE:3
DTSTAMP:20260424T175027Z
URL:https://business.tomballchamber.org/events/details/christian-business-luncheon-07-14-2020-32455
END:VEVENT

END:VCALENDAR
