BEGIN:VCALENDAR
VERSION:2.0
PRODID:-//ChamberMaster//Event Calendar 2.0//EN
METHOD:PUBLISH
X-PUBLISHED-TTL:P3D
REFRESH-INTERVAL:P3D
CALSCALE:GREGORIAN
BEGIN:VEVENT
DTSTART:20220712T163000Z
DTEND:20220712T180000Z
X-MICROSOFT-CDO-ALLDAYEVENT:FALSE
SUMMARY:Christian Business Luncheon
DESCRIPTION:Guest speaker is Colleen Harrington. Come and hear her story!
X-ALT-DESC;FMTTYPE=text/html:Guest speaker is Colleen Harrington. Come and hear her story!
LOCATION:Lone Star College - Tomball Beckendorf Conference Center 30555 Tomball Parkway Tomball\, TX 77375
UID:e.155.36214
SEQUENCE:3
DTSTAMP:20260421T081729Z
URL:https://business.tomballchamber.org/events/details/christian-business-luncheon-07-12-2022-36214
END:VEVENT

END:VCALENDAR
