BEGIN:VCALENDAR
VERSION:2.0
PRODID:-//ChamberMaster//Event Calendar 2.0//EN
METHOD:PUBLISH
X-PUBLISHED-TTL:P3D
REFRESH-INTERVAL:P3D
CALSCALE:GREGORIAN
BEGIN:VEVENT
DTSTART:20220614T163000Z
DTEND:20220614T180000Z
X-MICROSOFT-CDO-ALLDAYEVENT:FALSE
SUMMARY:Christian Business Luncheon
DESCRIPTION:Guest Speaker is Dean Dickschat\, owner of DeepRoots Vineyards in Plantersville.
X-ALT-DESC;FMTTYPE=text/html:Guest Speaker is Dean Dickschat\, owner of DeepRoots Vineyards in Plantersville.
LOCATION:Lone Star College - Tomball Beckendorf Conference Center 30555 Tomball Pkwy Tomball\, TX 77375
UID:e.155.36186
SEQUENCE:3
DTSTAMP:20260421T105805Z
URL:https://business.tomballchamber.org/events/details/christian-business-luncheon-06-14-2022-36186
END:VEVENT

END:VCALENDAR
