BEGIN:VCALENDAR
VERSION:2.0
PRODID:-//ChamberMaster//Event Calendar 2.0//EN
METHOD:PUBLISH
X-PUBLISHED-TTL:P3D
REFRESH-INTERVAL:P3D
CALSCALE:GREGORIAN
BEGIN:VEVENT
DTSTART:20220510T163000Z
DTEND:20220510T180000Z
X-MICROSOFT-CDO-ALLDAYEVENT:FALSE
SUMMARY:Christian Business Luncheon
DESCRIPTION:Guest speaker will be Starlet Bell.
X-ALT-DESC;FMTTYPE=text/html:Guest speaker will be Starlet Bell.
LOCATION:Lone Star College - Tomball 30555 Tomball Parkway Beckendorf Conference Center Tomball\, TX 77375
UID:e.155.35968
SEQUENCE:3
DTSTAMP:20260421T221307Z
URL:https://business.tomballchamber.org/events/details/christian-business-luncheon-05-10-2022-35968
END:VEVENT

END:VCALENDAR
