BEGIN:VCALENDAR
VERSION:2.0
PRODID:-//ChamberMaster//Event Calendar 2.0//EN
METHOD:PUBLISH
X-PUBLISHED-TTL:P3D
REFRESH-INTERVAL:P3D
CALSCALE:GREGORIAN
BEGIN:VEVENT
DTSTART:20230509T163000Z
DTEND:20230509T180000Z
X-MICROSOFT-CDO-ALLDAYEVENT:FALSE
SUMMARY:Christian Business Luncheon
DESCRIPTION:Guest Speaker is "America's Western Sweetheart"\, Belinda Gail. She was recently listed as one of the top 50 Country & Western Entertainers of all time by American Cowboy Magazine.
X-ALT-DESC;FMTTYPE=text/html:Guest Speaker is &quot\;America&#39\;s Western Sweetheart&quot\;\, Belinda Gail. She was recently listed as one of the top 50 Country &amp\; Western Entertainers of all time by American Cowboy Magazine.
LOCATION:Lone Star College - Tomball Beckendorf Conference Center 30555 Tomball Parkway Tomball\, TX 77375
UID:e.155.37950
SEQUENCE:3
DTSTAMP:20260420T062240Z
URL:https://business.tomballchamber.org/events/details/christian-business-luncheon-05-09-2023-37950
END:VEVENT

END:VCALENDAR
