BEGIN:VCALENDAR
VERSION:2.0
PRODID:-//ChamberMaster//Event Calendar 2.0//EN
METHOD:PUBLISH
X-PUBLISHED-TTL:P3D
REFRESH-INTERVAL:P3D
CALSCALE:GREGORIAN
BEGIN:VEVENT
DTSTART:20220111T173000Z
DTEND:20220111T190000Z
X-MICROSOFT-CDO-ALLDAYEVENT:FALSE
SUMMARY:Christian Business Luncheon
DESCRIPTION:Featured Speaker is Kathy Coleman. New room location for this luncheon only is N103 at LSC - Tomball. There will be a CBL member at the Beckendorf Conference Center to guide you.
X-ALT-DESC;FMTTYPE=text/html:Featured Speaker is Kathy Coleman. New room location for this luncheon only is N103 at LSC - Tomball. There will be a CBL member at the Beckendorf Conference Center to guide you.
LOCATION:Lone Star College - Tomball Room N103 30555 Tomball Pkwy Tomball\, TX 77375
UID:e.155.35186
SEQUENCE:3
DTSTAMP:20260422T095052Z
URL:https://business.tomballchamber.org/events/details/christian-business-luncheon-01-11-2022-35186
END:VEVENT

END:VCALENDAR
