BEGIN:VCALENDAR
VERSION:2.0
PRODID:-//ChamberMaster//Event Calendar 2.0//EN
METHOD:PUBLISH
X-PUBLISHED-TTL:P3D
REFRESH-INTERVAL:P3D
CALSCALE:GREGORIAN
BEGIN:VEVENT
DTSTART:20230110T173000Z
DTEND:20230110T190000Z
X-MICROSOFT-CDO-ALLDAYEVENT:FALSE
SUMMARY:Christian Business Luncheon
DESCRIPTION:Program will be a panel made up of Board Members who will discuss their work and spiritual journey.
X-ALT-DESC;FMTTYPE=text/html:Program will be a panel made up of Board Members who will discuss their work and spiritual journey.
LOCATION:Lone Star College - Tomball Beckendorf Conference Center 30555 Tomball Pkwy Tomball\, Texas 77375
UID:e.155.37683
SEQUENCE:3
DTSTAMP:20260420T135136Z
URL:https://business.tomballchamber.org/events/details/christian-business-luncheon-01-10-2023-37683
END:VEVENT

END:VCALENDAR
