BEGIN:VCALENDAR
VERSION:2.0
PRODID:-//ChamberMaster//Event Calendar 2.0//EN
METHOD:PUBLISH
X-PUBLISHED-TTL:P3D
REFRESH-INTERVAL:P3D
CALSCALE:GREGORIAN
BEGIN:VEVENT
DTSTART:20070302T220000Z
DTEND:20070303T020000Z
X-MICROSOFT-CDO-ALLDAYEVENT:FALSE
SUMMARY:Chili Supper
DESCRIPTION:Rosehill United Methodist Church Chili Supper
X-ALT-DESC;FMTTYPE=text/html:Rosehill United Methodist Church Chili Supper
LOCATION:Rosehill United Methodist Church - 21022 Rosehill Church Road
UID:e.155.1351
SEQUENCE:3
DTSTAMP:20260422T121613Z
URL:https://business.tomballchamber.org/events/details/chili-supper-03-02-2007-1351
END:VEVENT

END:VCALENDAR
