BEGIN:VCALENDAR
VERSION:2.0
PRODID:-//ChamberMaster//Event Calendar 2.0//EN
METHOD:PUBLISH
X-PUBLISHED-TTL:P3D
REFRESH-INTERVAL:P3D
CALSCALE:GREGORIAN
BEGIN:VEVENT
DTSTART:20070529T200000Z
DTEND:20070529T210000Z
X-MICROSOFT-CDO-ALLDAYEVENT:FALSE
SUMMARY:Children's Water Balloon Battle
DESCRIPTION:Don't miss this awesome clash of the Tomball Titans as we kick off Summer Reading!  Prepare to get wet!
X-ALT-DESC;FMTTYPE=text/html:Don't miss this awesome clash of the Tomball Titans as we kick off Summer Reading!  Prepare to get wet!
LOCATION:Meet in the Children's Department of the Tomball College & Community Library\, 30555 Tomball Pkwy.
UID:e.155.2213
SEQUENCE:3
DTSTAMP:20260422T104853Z
URL:https://business.tomballchamber.org/events/details/children-s-water-balloon-battle-05-29-2007-2213
END:VEVENT

END:VCALENDAR
