BEGIN:VCALENDAR
VERSION:2.0
PRODID:-//ChamberMaster//Event Calendar 2.0//EN
METHOD:PUBLISH
X-PUBLISHED-TTL:P3D
REFRESH-INTERVAL:P3D
CALSCALE:GREGORIAN
BEGIN:VEVENT
DTSTART;VALUE=DATE:20070312
DTEND;VALUE=DATE:20070318
TRANSP:TRANSPARENT
X-MICROSOFT-CDO-ALLDAYEVENT:TRUE
SUMMARY:Children's Spring Break Events
DESCRIPTION:The Tomball College & Community Library presents special Tomball Centennial Spring Break Events for children throughout the week of March 12-17.\nMarch 12- Train Craft & Parade (3:00 pm)\nMarch 13- Old Fashioned Games & Free Pony Rides (3:00 pm)\nMarch 14- Centennial Chess Games with prizes (3:00 pm)\nMarch 15- Gusher Times 1901-1930 Storytelling by Don Sanders (3:00 pm)\nMarch 16- Centennial Puppet Show (3:00 pm)\nMarch 17- Movie Day (1:30 pm)
X-ALT-DESC;FMTTYPE=text/html:The Tomball College & Community Library presents special Tomball Centennial Spring Break Events for children throughout the week of March 12-17.\nMarch 12- Train Craft & Parade (3:00 pm)\nMarch 13- Old Fashioned Games & Free Pony Rides (3:00 pm)\nMarch 14- Centennial Chess Games with prizes (3:00 pm)\nMarch 15- Gusher Times 1901-1930 Storytelling by Don Sanders (3:00 pm)\nMarch 16- Centennial Puppet Show (3:00 pm)\nMarch 17- Movie Day (1:30 pm)
LOCATION:Tomball College & Community Library 30555 Tomball Pkwy.
UID:e.155.1394
SEQUENCE:3
DTSTAMP:20260422T121729Z
URL:https://business.tomballchamber.org/events/details/children-s-spring-break-events-03-12-2007-1394
END:VEVENT

END:VCALENDAR
